BEGIN:VCALENDAR
PRODID:-//eluceo/ical//2.0/EN
VERSION:2.0
CALSCALE:GREGORIAN
BEGIN:VEVENT
UID:b466d841902d64d385a62477336188f7
DTSTAMP:20260422T084014Z
SUMMARY:Rótarýfundur 28.apríl 2021
DESCRIPTION:
URL:https://neskaupstadur.rotary1360.is/is/agenda/show/2784
DTSTART;TZID=Iceland:20210428T184500
DTEND;TZID=Iceland:20210428T200000
LOCATION:Hotel Capitano\nHafnarbraut 50\n740 Neskaupstaður\n
CATEGORIES:Rotary
END:VEVENT
BEGIN:VTIMEZONE
TZID:Iceland
BEGIN:STANDARD
DTSTART:20210428T184500
TZNAME:GMT
TZOFFSETTO:+0000
TZOFFSETFROM:+0000
END:STANDARD
END:VTIMEZONE
END:VCALENDAR
