BEGIN:VCALENDAR
PRODID:-//eluceo/ical//2.0/EN
VERSION:2.0
CALSCALE:GREGORIAN
BEGIN:VEVENT
UID:07536d4f8de44836e819a74a1bebb104
DTSTAMP:20260422T145113Z
SUMMARY:Klúbbundur fellur niður
DESCRIPTION:
URL:https://neskaupstadur.rotary1360.is/is/agenda/show/1935
DTSTART;TZID=Iceland:20200318T184500
DTEND;TZID=Iceland:20200318T184500
LOCATION:Hotel Capitano\nHafnarbraut 50\n740 Neskaupstaður\n
CATEGORIES:Rotary
END:VEVENT
BEGIN:VTIMEZONE
TZID:Iceland
BEGIN:STANDARD
DTSTART:20200318T184500
TZNAME:GMT
TZOFFSETTO:+0000
TZOFFSETFROM:+0000
END:STANDARD
END:VTIMEZONE
END:VCALENDAR
