BEGIN:VCALENDAR
PRODID:-//eluceo/ical//2.0/EN
VERSION:2.0
CALSCALE:GREGORIAN
BEGIN:VEVENT
UID:56bc6551996aa7f72c83716f95d8ac1b
DTSTAMP:20260422T144950Z
SUMMARY:Klúbbfundur
DESCRIPTION:
URL:https://neskaupstadur.rotary1360.is/is/agenda/show/1900
DTSTART;TZID=Iceland:20200311T184500
DTEND;TZID=Iceland:20200311T200000
LOCATION:Hotel Capitano\nHafnarbraut 50\n740 Neskaupstaður\n
CATEGORIES:Rotary
END:VEVENT
BEGIN:VTIMEZONE
TZID:Iceland
BEGIN:STANDARD
DTSTART:20200311T184500
TZNAME:GMT
TZOFFSETTO:+0000
TZOFFSETFROM:+0000
END:STANDARD
END:VTIMEZONE
END:VCALENDAR
