BEGIN:VCALENDAR
PRODID:-//eluceo/ical//2.0/EN
VERSION:2.0
CALSCALE:GREGORIAN
BEGIN:VEVENT
UID:9514252dcbd03dc61b32ca72e6028b6d
DTSTAMP:20260422T085237Z
SUMMARY:Rótarýfundur
DESCRIPTION:
URL:https://neskaupstadur.rotary1360.is/en/agenda/show/367
DTSTART;TZID=Iceland:20181121T184500
DTEND;TZID=Iceland:20181121T200000
LOCATION:Hotel Capitano\nHafnarbraut 50\n740 Neskaupstaður\n
CATEGORIES:Rotary
END:VEVENT
BEGIN:VTIMEZONE
TZID:Iceland
BEGIN:STANDARD
DTSTART:20181121T184500
TZNAME:GMT
TZOFFSETTO:+0000
TZOFFSETFROM:+0000
END:STANDARD
END:VTIMEZONE
END:VCALENDAR
